BEGIN:VCALENDAR
VERSION:2.0
PRODID:-//ChamberMaster//Event Calendar 2.0//EN
METHOD:PUBLISH
X-PUBLISHED-TTL:P3D
REFRESH-INTERVAL:P3D
CALSCALE:GREGORIAN
BEGIN:VEVENT
DTSTART:20150925T123000Z
DTEND:20150925T150000Z
X-MICROSOFT-CDO-ALLDAYEVENT:FALSE
SUMMARY:2015 TechTalks- How to Recruit the Best Hourly Healthcare Workers
DESCRIPTION:Proven Strategies for\n\nFind Your Next High-Performing Healthcare Employee!  \n\n\n	Recruit While You Sleep: Understand How to Build a Recruiting Strategy That is Dynamic and (Nearly) Self-sustaining\n	Understand How to Write Recruiting Ads Which Attract Right-Fit Talent\n	Discover The Top 5 Best Recruiting Websites and Social Media Resources\n\n\n \n\n Presented by Kristine Sexter\n\n \n\nDelicious Continental Breakfast Included!
X-ALT-DESC;FMTTYPE=text/html:<p align="center" style="line-height: normal\; margin: 0in 0in 0pt\; padding: 0px 0px 8px\; color: rgb(102\, 102\, 102)\; font-family: 'Helvetica Neue'\, Helvetica\, Arial\, sans-serif\; font-size: 13.2px\; letter-spacing: 0.5px\; text-align: center\; background-color: rgb(223\, 226\, 242)\;"><span style="font-family: 'arial black'\, 'avant garde'\; font-size: large\;"><span style="font-weight: 700\;">Proven Strategies for</span></span></p>\n\n<p align="center" style="line-height: normal\; margin: 0in 0in 0pt\; padding: 0px 0px 8px\; color: rgb(102\, 102\, 102)\; font-family: 'Helvetica Neue'\, Helvetica\, Arial\, sans-serif\; font-size: 13.2px\; letter-spacing: 0.5px\; text-align: center\; background-color: rgb(223\, 226\, 242)\;"><span style="font-family: 'arial black'\, 'avant garde'\; font-size: large\;"><span style="font-weight: 700\;">Find Your Next High-Performing Healthcare Employee!&nbsp\;&nbsp\;</span></span></p>\n\n<ul style="margin: 0px\; color: rgb(102\, 102\, 102)\; font-family: 'Helvetica Neue'\, Helvetica\, Arial\, sans-serif\; font-size: 13.2px\; letter-spacing: 0.5px\; line-height: 15.84px\; background-color: rgb(223\, 226\, 242)\;">\n	<li><span style="font-family: arial\, helvetica\, sans-serif\; font-size: 10pt\;">Recruit While You Sleep: Understand How to Build a Recruiting Strategy That is Dynamic and (Nearly) Self-sustaining</span></li>\n	<li><span style="font-family: arial\, helvetica\, sans-serif\; font-size: 10pt\;">Understand How to Write Recruiting Ads Which Attract Right-Fit Talent</span></li>\n	<li><span style="font-family: arial\, helvetica\, sans-serif\; font-size: 10pt\;">Discover The Top 5 Best Recruiting Websites and Social Media Resources</span></li>\n</ul>\n\n<p style="line-height: normal\; margin: 0px\; padding: 0px 0px 8px\; color: rgb(102\, 102\, 102)\; font-family: 'Helvetica Neue'\, Helvetica\, Arial\, sans-serif\; font-size: 13.2px\; letter-spacing: 0.5px\; background-color: rgb(223\, 226\, 242)\;">&nbsp\;</p>\n\n<p style="line-height: normal\; margin: 0in 0in 0pt\; padding: 0px 0px 8px\; color: rgb(102\, 102\, 102)\; font-family: 'Helvetica Neue'\, Helvetica\, Arial\, sans-serif\; font-size: 13.2px\; letter-spacing: 0.5px\; text-align: center\; background-color: rgb(223\, 226\, 242)\;"><span style="font-family: arial\, helvetica\, sans-serif\; font-size: 11pt\;">&nbsp\;</span><span style="font-family: 'arial black'\, 'avant garde'\;"><span style="font-weight: 700\;"><span style="font-size: 11pt\;">Presented by Kristine Sexter</span></span></span></p>\n\n<p align="center" style="line-height: normal\; margin: 0in 0in 0pt\; padding: 0px 0px 8px\; color: rgb(102\, 102\, 102)\; font-family: 'Helvetica Neue'\, Helvetica\, Arial\, sans-serif\; font-size: 13.2px\; letter-spacing: 0.5px\; text-align: center\; background-color: rgb(223\, 226\, 242)\;">&nbsp\;</p>\n\n<p align="center" style="line-height: normal\; margin: 0in 0in 0pt\; padding: 0px 0px 8px\; color: rgb(102\, 102\, 102)\; font-family: 'Helvetica Neue'\, Helvetica\, Arial\, sans-serif\; font-size: 13.2px\; letter-spacing: 0.5px\; text-align: center\; background-color: rgb(223\, 226\, 242)\;"><span style="font-family: arial\, helvetica\, sans-serif\;"><em><span style="font-size: 11pt\;"><em><span style="font-size: 11pt\;">Delicious Continental Breakfast Included!</span></em></span></em></span></p>\n
LOCATION:Tulsa Tech - Health Sciences Center 3350 S. Memorial Drive Tulsa OK 74145
UID:e.1611.1670
SEQUENCE:3
DTSTAMP:20260419T234740Z
URL:https://portal.bixbychamber.com/events/details/2015-techtalks-how-to-recruit-the-best-hourly-healthcare-workers-09-25-2015-1670
END:VEVENT

END:VCALENDAR
