BEGIN:VCALENDAR
VERSION:2.0
PRODID:-//ChamberMaster//Event Calendar 2.0//EN
METHOD:PUBLISH
X-PUBLISHED-TTL:P3D
REFRESH-INTERVAL:P3D
CALSCALE:GREGORIAN
BEGIN:VEVENT
DTSTART:20150611T223000Z
DTEND:20150612T013000Z
X-MICROSOFT-CDO-ALLDAYEVENT:FALSE
SUMMARY:2015 Taste of Bixby
DESCRIPTION:The Taste of Bixby is the networking event of the year with live music\, great food and drinks. It's an opportunity for networkers to meet with prospective clients in a casual fun atmosphere. Whether you're in the mood for a gourmet dessert\, slice of pizza or a glass of wine\, all your cravings will be satisfied at the 2015 Taste of Bixby. The event is open to the public.\n\n\n\nCurrent Vendors for Taste of Bixby 2015:\n\n\n	\n		\n	\n	\n		\n			Advocare\n		\n		\n			Anheuser-Busch Sales of Oklahoma\n		\n		\n			Cookie Advantage\n		\n		\n			Cork \n		\n		\n			Dave and Buster's\n		\n		\n			Doc's Country Mart\n		\n		\n			Freddy's Frozen Custard & Steakburgers\n		\n		\n			Goodcents Deli Fresh Subs\n		\n		\n			Hard Rock Hotel & Casino\n		\n		\n			Java Dave's Executive Coffee\n		\n		\n			Michael V's\n		\n		\n			Noodles and Company\n		\n		\n			Nothing Bundt Cakes\n		\n		\n			Organo Gold-Nugent\n		\n		\n			Panda Express\n		\n		\n			PJ's Bar and Grill\n		\n		\n			Raising Cane's Chicken Fingers\n		\n		\n			Reasor's\n		\n		\n			Treys Bar and Grill \n		\n		\n			Trimmins by Timmons
X-ALT-DESC;FMTTYPE=text/html:<span style="font-size:12px\;"><span style="font-family:arial\;"><span style="font-size:14px\;">The Taste of Bixby is the networking event of the year with live music\, great food and drinks. It&#39\;s an opportunity for networkers to meet with prospective clients in a casual fun atmosphere. Whether you&#39\;re in the mood for a gourmet dessert\, slice of pizza or a glass of wine\, all your cravings will be satisfied at the 2015 Taste of Bixby. The event is open to the public.</span><br />\n<br />\n<span style="font-size:14px\;">Current Vendors for Taste of Bixby 2015:</span></span></span>\n\n<table border="0" cellpadding="0" cellspacing="0" style="border-collapse:collapse\;width:257px\;" width="257">\n	<colgroup>\n		<col style="width:257px\;" />\n	</colgroup>\n	<tbody>\n		<tr height="20" style="height:20px\;">\n			<td height="20" style="height:20px\;width:257px\;">Advocare</td>\n		</tr>\n		<tr height="20" style="height:20px\;">\n			<td height="20" style="height:20px\;">Anheuser-Busch Sales of Oklahoma</td>\n		</tr>\n		<tr height="20" style="height:20px\;">\n			<td height="20" style="height:20px\;">Cookie Advantage</td>\n		</tr>\n		<tr height="20" style="height:20px\;">\n			<td height="20" style="height:20px\;">Cork&nbsp\;</td>\n		</tr>\n		<tr height="20" style="height:20px\;">\n			<td height="20" style="height:20px\;">Dave and Buster&#39\;s</td>\n		</tr>\n		<tr height="20" style="height:20px\;">\n			<td height="20" style="height:20px\;">Doc&#39\;s Country Mart</td>\n		</tr>\n		<tr height="20" style="height:20px\;">\n			<td height="20" style="height:20px\;">Freddy&#39\;s Frozen Custard &amp\; Steakburgers</td>\n		</tr>\n		<tr height="20" style="height:20px\;">\n			<td height="20" style="height:20px\;">Goodcents Deli Fresh Subs</td>\n		</tr>\n		<tr height="20" style="height:20px\;">\n			<td height="20" style="height:20px\;">Hard Rock Hotel &amp\; Casino</td>\n		</tr>\n		<tr height="20" style="height:20px\;">\n			<td height="20" style="height:20px\;">Java Dave&#39\;s Executive Coffee</td>\n		</tr>\n		<tr height="20" style="height:20px\;">\n			<td height="20" style="height:20px\;">Michael V&#39\;s</td>\n		</tr>\n		<tr height="20" style="height:20px\;">\n			<td height="20" style="height:20px\;">Noodles and Company</td>\n		</tr>\n		<tr height="20" style="height:20px\;">\n			<td height="20" style="height:20px\;">Nothing Bundt Cakes</td>\n		</tr>\n		<tr height="20" style="height:20px\;">\n			<td height="20" style="height:20px\;">Organo Gold-Nugent</td>\n		</tr>\n		<tr height="20" style="height:20px\;">\n			<td height="20" style="height:20px\;">Panda Express</td>\n		</tr>\n		<tr height="20" style="height:20px\;">\n			<td height="20" style="height:20px\;">PJ&#39\;s Bar and Grill</td>\n		</tr>\n		<tr height="20" style="height:20px\;">\n			<td height="20" style="height:20px\;">Raising Cane&#39\;s Chicken Fingers</td>\n		</tr>\n		<tr height="20" style="height:20px\;">\n			<td height="20" style="height:20px\;">Reasor&#39\;s</td>\n		</tr>\n		<tr height="20" style="height:20px\;">\n			<td height="20" style="height:20px\;">Treys Bar and Grill&nbsp\;</td>\n		</tr>\n		<tr height="20" style="height:20px\;">\n			<td height="20" style="height:20px\;">Trimmins by Timmons</td>\n		</tr>\n	</tbody>\n</table>\n
LOCATION:SpiritBank Event Center Arena 10441 South Regal Boulevard Tulsa\, OK 74133
UID:e.1611.1505
SEQUENCE:3
DTSTAMP:20260420T034717Z
URL:https://portal.bixbychamber.com/events/details/2015-taste-of-bixby-06-11-2015-1505
END:VEVENT

END:VCALENDAR
