BEGIN:VCALENDAR
VERSION:2.0
PRODID:-//ChamberMaster//Event Calendar 2.0//EN
METHOD:PUBLISH
X-PUBLISHED-TTL:P3D
REFRESH-INTERVAL:P3D
CALSCALE:GREGORIAN
BEGIN:VEVENT
DTSTART:20151114T150000Z
DTEND:20151114T210000Z
X-MICROSOFT-CDO-ALLDAYEVENT:FALSE
SUMMARY:2015 South County Home and Business Expo
DESCRIPTION:The mission of the South County Home and Business Expo is to promote the Chambers' Partners and aid them in building a greater partnership with area businesses while bring awareness\, education and stronger leadership to the South County area.
X-ALT-DESC;FMTTYPE=text/html:<span style="font-family:arial\;"><span style="font-size:14px\;">The mission of the South County Home and Business Expo is to promote the Chambers&rsquo\; Partners and aid them in building a greater partnership with area businesses while bring awareness\, education and stronger leadership to the South County area.</span></span><br />\n&nbsp\;\n<div>&nbsp\;</div>\n
LOCATION:SpiritBank Event Center Arena 10441 South Regal Boulevard Tulsa\, OK 74133
UID:e.1611.1490
SEQUENCE:3
DTSTAMP:20260419T210910Z
URL:https://portal.bixbychamber.com/events/details/2015-south-county-home-and-business-expo-11-14-2015-1490
END:VEVENT

END:VCALENDAR
