BEGIN:VCALENDAR
VERSION:2.0
PRODID:-//ChamberMaster//Event Calendar 2.0//EN
METHOD:PUBLISH
X-PUBLISHED-TTL:P3D
REFRESH-INTERVAL:P3D
CALSCALE:GREGORIAN
BEGIN:VEVENT
DTSTART:20150130T003000Z
DTEND:20150130T013000Z
X-MICROSOFT-CDO-ALLDAYEVENT:FALSE
SUMMARY:2015 Smart Phone Seminar
DESCRIPTION:Tired of not knowing how to use your iPhone or Android phone features?\n\n\n\n Join us for a "How to Use Your Phone"    seminar hosted by the experts at Verizon Wireless Tulsa Hills Locations
X-ALT-DESC;FMTTYPE=text/html:<span style="font-size:12px\;"><strong><em><span style="font-family:footlight mt light\,serif\;">Tired</span></em><span style="font-family:footlight mt light\,serif\;"> of not knowing how to use your iPhone or Android phone features?</span><br />\n<br />\n<em><span style="font-family:corbel\,sans-serif\;">&nbsp\;Join us for a &ldquo\;How to Use Your Phone&rdquo\; &nbsp\;&nbsp\;&nbsp\;</span></em></strong><em><span style="font-family:corbel\,sans-serif\;">seminar hosted by the experts</span><span style="font-family:corbel\,sans-serif\;"> at Verizon Wireless Tulsa Hills Locations</span></em></span>
LOCATION:Forest Hills Senior Community 4304 W Houston St Broken Arrow\, OK
UID:e.1611.1555
SEQUENCE:3
DTSTAMP:20260420T121251Z
URL:https://portal.bixbychamber.com/events/details/2015-smart-phone-seminar-01-29-2015-1555
END:VEVENT

END:VCALENDAR
