BEGIN:VCALENDAR
VERSION:2.0
PRODID:-//ChamberMaster//Event Calendar 2.0//EN
METHOD:PUBLISH
X-PUBLISHED-TTL:P3D
REFRESH-INTERVAL:P3D
CALSCALE:GREGORIAN
BEGIN:VEVENT
DTSTART:20151128T160000Z
DTEND:20151128T180000Z
X-MICROSOFT-CDO-ALLDAYEVENT:FALSE
SUMMARY:2015 Small Business Saturday Kick-Off Breakfast
DESCRIPTION:Join us on Saturday from 10:00 AM-12:00 PM at Treys Bar and Grill for our Small Business Saturday Kick-Off!\n\n\n\nTreys Bar and Grill will be offering a special set menu at $10.00 per person.\n\n\n\nBe sure to stop by for our gift card giveaways and to pick up your passport.\n\n\n\nComplete a passport and return it to the Bixby Metro Chamber of Commerce offices to win an AMEX gift card to be given out at December Business@Lunch.
X-ALT-DESC;FMTTYPE=text/html:<span style="color: rgb(20\, 24\, 35)\; font-family: helvetica\, arial\, sans-serif\; font-size: 14px\; line-height: 17.0545px\;">Join us on Saturday from 10:00 AM-12:00 PM at Treys Bar and Grill for our Small Business Saturday Kick-Off!</span><br style="color: rgb(20\, 24\, 35)\; font-family: helvetica\, arial\, sans-serif\; font-size: 14px\; line-height: 17.0545px\;" />\n<br style="color: rgb(20\, 24\, 35)\; font-family: helvetica\, arial\, sans-serif\; font-size: 14px\; line-height: 17.0545px\;" />\n<span style="color: rgb(20\, 24\, 35)\; font-family: helvetica\, arial\, sans-serif\; font-size: 14px\; line-height: 17.0545px\;">Treys Bar and Grill will be offering a special set menu at $10.00 per person.</span><br style="color: rgb(20\, 24\, 35)\; font-family: helvetica\, arial\, sans-serif\; font-size: 14px\; line-height: 17.0545px\;" />\n<br style="color: rgb(20\, 24\, 35)\; font-family: helvetica\, arial\, sans-serif\; font-size: 14px\; line-height: 17.0545px\;" />\n<span style="color: rgb(20\, 24\, 35)\; font-family: helvetica\, arial\, sans-serif\; font-size: 14px\; line-height: 17.0545px\;">Be sure to stop by for our gift card giveaways and to pick up your passport.</span><br style="color: rgb(20\, 24\, 35)\; font-family: helvetica\, arial\, sans-serif\; font-size: 14px\; line-height: 17.0545px\;" />\n<br style="color: rgb(20\, 24\, 35)\; font-family: helvetica\, arial\, sans-serif\; font-size: 14px\; line-height: 17.0545px\;" />\n<span style="color: rgb(20\, 24\, 35)\; font-family: helvetica\, arial\, sans-serif\; font-size: 14px\; line-height: 17.0545px\;">Complete a passport and return it to the Bixby Metro Chamber of Commerce offices to win an AMEX gift card to be given out at December Business@Lunch.</span>
LOCATION:Treys Bar and Grill 7891 East 108th Street Suite X-22 Tulsa\, OK 74133
UID:e.1611.1696
SEQUENCE:3
DTSTAMP:20260419T222804Z
URL:https://portal.bixbychamber.com/events/details/2015-small-business-saturday-kick-off-breakfast-11-28-2015-1696
END:VEVENT

END:VCALENDAR
