BEGIN:VCALENDAR
VERSION:2.0
PRODID:-//ChamberMaster//Event Calendar 2.0//EN
METHOD:PUBLISH
X-PUBLISHED-TTL:P3D
REFRESH-INTERVAL:P3D
CALSCALE:GREGORIAN
BEGIN:VEVENT
DTSTART:20150918T163000Z
DTEND:20150918T180000Z
X-MICROSOFT-CDO-ALLDAYEVENT:FALSE
SUMMARY:2015 September Learn Over Lunch
DESCRIPTION:Learn Over Lunch educational program\, partners will mentor other partners on important business skills including personal and professional development\, educational growth and the latest trends and technology. Join us for lunch and take some time out of your day to learn from an expert.\n\n\n\nPerformance Reviews - How To Make Them Effective\n\nBrian Martin will discuss the ins and outs of getting the most out of a Performance Review.  Whether you're an employer administrating reviews or an employee being reviewed yourself\, this is a luncheon you won't want to miss!
X-ALT-DESC;FMTTYPE=text/html:<em><em>Learn Over Lunch educational program\, partners will mentor other partners on important business skills including personal and professional development\, educational growth and the latest trends and technology. Join us for lunch and take some time out of your day to learn from an expert</em>.</em><br />\n<br />\n<span style="color:#0070B6\;"><span style="font-family:arial\,sans-serif\;"><span style="font-size:14.0pt\;">Performance Reviews - How To Make Them Effective</span></span></span><br />\n<span style="color:black\;"><span style="font-family:arial\,sans-serif\;"><span style="font-size:9.0pt\;">Brian Martin will discuss the ins and outs of getting the most out of a Performance Review. &nbsp\;Whether you&#39\;re an employer administrating reviews or an employee being reviewed yourself\, this is a luncheon you won&#39\;t want to miss!</span></span></span>
LOCATION:
UID:e.1611.1501
SEQUENCE:3
DTSTAMP:20260419T235710Z
URL:https://portal.bixbychamber.com/events/details/2015-september-learn-over-lunch-09-18-2015-1501
END:VEVENT

END:VCALENDAR
