BEGIN:VCALENDAR
VERSION:2.0
PRODID:-//ChamberMaster//Event Calendar 2.0//EN
METHOD:PUBLISH
X-PUBLISHED-TTL:P3D
REFRESH-INTERVAL:P3D
CALSCALE:GREGORIAN
BEGIN:VEVENT
DTSTART:20150625T233000Z
DTEND:20150626T010000Z
X-MICROSOFT-CDO-ALLDAYEVENT:FALSE
SUMMARY:2015 Senior Safety with Lori Fullbright
DESCRIPTION:Personal safety is on the minds of everyone in the community\, especially seniors.  Join us as Lori covers all types of crime safety and information on the latest crime trends.
X-ALT-DESC;FMTTYPE=text/html:<strong><span style="background-image:initial\;background-attachment:initial\;background-size:initial\;background-origin:initial\;background-clip:initial\;background-position:initial\;background-repeat:initial\;"><span style="color:#3f3f3f\;"><span style="font-family:arial\,sans-serif\;"><span style="font-size:14pt\;">Personal safety is on the minds of everyone in the community\, especially seniors.&nbsp\; Join us as Lori </span></span></span></span></strong><strong><span style="background-image:initial\;background-attachment:initial\;background-size:initial\;background-origin:initial\;background-clip:initial\;background-position:initial\;background-repeat:initial\;"><span style="font-family:arial\,sans-serif\;"><span style="font-size:14pt\;">covers all types of crime safety and information on the latest crime trends.</span></span></span></strong>
LOCATION:Forest Hills Retirement Community 4304 W. Houston\, Broken Arrow (on 81st between Garnett & 129th)
UID:e.1611.1637
SEQUENCE:3
DTSTAMP:20260420T034734Z
URL:https://portal.bixbychamber.com/events/details/2015-senior-safety-with-lori-fullbright-06-25-2015-1637
END:VEVENT

END:VCALENDAR
