BEGIN:VCALENDAR
VERSION:2.0
PRODID:-//ChamberMaster//Event Calendar 2.0//EN
METHOD:PUBLISH
X-PUBLISHED-TTL:P3D
REFRESH-INTERVAL:P3D
CALSCALE:GREGORIAN
BEGIN:VEVENT
DTSTART:20150326T233000Z
DTEND:20150327T003000Z
X-MICROSOFT-CDO-ALLDAYEVENT:FALSE
SUMMARY:2015 Senior Driving Seminar hosted by Forest Hills Retirement Community
DESCRIPTION:Making Safe Decisions Regarding Senior Driving Seminar\n\nHosted By Select Life Mangagement and Forest Hills.\n\n\n\nDeciding to hang up the car keys for good can be emotionally difficult for some. Join us to discover how to approach the subject with your loved one in a supportive & caring way.
X-ALT-DESC;FMTTYPE=text/html:<span style="font-family:arial\;"><span style="font-size:12px\;">Making Safe Decisions Regarding Senior Driving Seminar<br />\nHosted By Select Life Mangagement and Forest Hills.<br />\n<br />\nDeciding to hang up the car keys for good can be emotionally difficult for some. Join us to discover how to approach the subject with your loved one in a supportive &amp\; caring way.</span></span><br />\n&nbsp\;
LOCATION:Forest Hills Retirement Community 4304 West Houston Broken Arrow\, OK (on 81st between Garnett and 129th)
UID:e.1611.1572
SEQUENCE:3
DTSTAMP:20260420T082100Z
URL:https://portal.bixbychamber.com/events/details/2015-senior-driving-seminar-hosted-by-forest-hills-retirement-community-03-26-2015-1572
END:VEVENT

END:VCALENDAR
