BEGIN:VCALENDAR
VERSION:2.0
PRODID:-//ChamberMaster//Event Calendar 2.0//EN
METHOD:PUBLISH
X-PUBLISHED-TTL:P3D
REFRESH-INTERVAL:P3D
CALSCALE:GREGORIAN
BEGIN:VEVENT
DTSTART:20151218T220000Z
DTEND:20151219T000000Z
X-MICROSOFT-CDO-ALLDAYEVENT:FALSE
SUMMARY:2015 Santa is coming to the Bixby Community Center
DESCRIPTION:Join the Bixby Community Center as the welcome Santa Clause!\n\n\n\nRefreshments and gams will be provided!
X-ALT-DESC;FMTTYPE=text/html:Join the Bixby Community Center as the welcome Santa Clause!<br />\n<br />\nRefreshments and gams will be provided!
LOCATION:Bixby Community Center 211 North Cabaniss Bixby\, OK 74008
UID:e.1611.1704
SEQUENCE:3
DTSTAMP:20260419T194051Z
URL:https://portal.bixbychamber.com/events/details/2015-santa-is-coming-to-the-bixby-community-center-12-18-2015-1704
END:VEVENT

END:VCALENDAR
