BEGIN:VCALENDAR
VERSION:2.0
PRODID:-//ChamberMaster//Event Calendar 2.0//EN
METHOD:PUBLISH
X-PUBLISHED-TTL:P3D
REFRESH-INTERVAL:P3D
CALSCALE:GREGORIAN
BEGIN:VEVENT
DTSTART:20150711T130000Z
DTEND:20150711T170000Z
X-MICROSOFT-CDO-ALLDAYEVENT:FALSE
SUMMARY:2015 Road to Hope: Open Car & Truck Show
DESCRIPTION:Awards\, Live Auction\, Prizes & Drawings Begin at 2:00 PM.\n\n\n\nRegistration begins at 8:00 AM with free coffee and breakfast.\n\n\n\nAwards for: Top 25\, Best Paint\, Best Interior & People Choice
X-ALT-DESC;FMTTYPE=text/html:Awards\, Live Auction\, Prizes &amp\; Drawings Begin at 2:00 PM.<br />\n<br />\nRegistration begins at 8:00 AM with free coffee and breakfast.<br />\n<br />\nAwards for: Top 25\, Best Paint\, Best Interior &amp\; People Choice
LOCATION:Haiky Creek Park 11327 South Garnett Road Bixby\, OK 74008
UID:e.1611.1615
SEQUENCE:3
DTSTAMP:20260420T034958Z
URL:https://portal.bixbychamber.com/events/details/2015-road-to-hope-open-car-truck-show-07-11-2015-1615
END:VEVENT

END:VCALENDAR
