BEGIN:VCALENDAR
VERSION:2.0
PRODID:-//ChamberMaster//Event Calendar 2.0//EN
METHOD:PUBLISH
X-PUBLISHED-TTL:P3D
REFRESH-INTERVAL:P3D
CALSCALE:GREGORIAN
BEGIN:VEVENT
DTSTART:20150423T210000Z
DTEND:20150423T213000Z
X-MICROSOFT-CDO-ALLDAYEVENT:FALSE
SUMMARY:2015 Ribbon Cutting- Bella's House
DESCRIPTION:Please join us for a Ribbon Cutting as we welcome Bella's House to the Bixby Metro Chamber Family.
X-ALT-DESC;FMTTYPE=text/html:<span style="font-size:12px\;"><span style="font-family:arial\;">Please join us for a Ribbon Cutting as we welcome Bella&#39\;s House to the Bixby Metro Chamber Family.</span></span>
LOCATION:Bella House of Tulsa 7890 E 106th Street Suite V-8 Tulsa\, OK 74133
UID:e.1611.1584
SEQUENCE:3
DTSTAMP:20260420T064622Z
URL:https://portal.bixbychamber.com/events/details/2015-ribbon-cutting-bella-s-house-04-23-2015-1584
END:VEVENT

END:VCALENDAR
