BEGIN:VCALENDAR
VERSION:2.0
PRODID:-//ChamberMaster//Event Calendar 2.0//EN
METHOD:PUBLISH
X-PUBLISHED-TTL:P3D
REFRESH-INTERVAL:P3D
CALSCALE:GREGORIAN
BEGIN:VEVENT
DTSTART:20150702T213000Z
DTEND:20150702T220000Z
X-MICROSOFT-CDO-ALLDAYEVENT:FALSE
SUMMARY:2015 Ribbon Cutting- Axis Health Care
DESCRIPTION:Please join us for a Ribbon Cutting welcoming Axis Health Care to the Bixby Metro Chamber of Commerce family.
X-ALT-DESC;FMTTYPE=text/html:Please join us for a Ribbon Cutting welcoming Axis Health Care to the Bixby Metro Chamber of Commerce family.
LOCATION:Axis Health Care 11911 South Memorial Drive Bixby\, OK 74008
UID:e.1611.1617
SEQUENCE:3
DTSTAMP:20260420T023740Z
URL:https://portal.bixbychamber.com/events/details/2015-ribbon-cutting-axis-health-care-07-02-2015-1617
END:VEVENT

END:VCALENDAR
