BEGIN:VCALENDAR
VERSION:2.0
PRODID:-//ChamberMaster//Event Calendar 2.0//EN
METHOD:PUBLISH
X-PUBLISHED-TTL:P3D
REFRESH-INTERVAL:P3D
CALSCALE:GREGORIAN
BEGIN:VEVENT
DTSTART:20150331T223000Z
DTEND:20150401T000000Z
X-MICROSOFT-CDO-ALLDAYEVENT:FALSE
SUMMARY:2015 Ribbon Cutting and Open House- The Eye Center\, South Tulsa
DESCRIPTION:Please join us for a Ribbon Cutting and Open House for The Eye Center\, South Tulsa's new location!
X-ALT-DESC;FMTTYPE=text/html:Please join us for a Ribbon Cutting and Open House for The Eye Center\, South Tulsa&#39\;s new location!
LOCATION:The Eye Center - South Tulsa David Hall 11920 South Memorial Drive Bixby\, OK 74008
UID:e.1611.1567
SEQUENCE:3
DTSTAMP:20260420T082502Z
URL:https://portal.bixbychamber.com/events/details/2015-ribbon-cutting-and-open-house-the-eye-center-south-tulsa-03-31-2015-1567
END:VEVENT

END:VCALENDAR
