BEGIN:VCALENDAR
VERSION:2.0
PRODID:-//ChamberMaster//Event Calendar 2.0//EN
METHOD:PUBLISH
X-PUBLISHED-TTL:P3D
REFRESH-INTERVAL:P3D
CALSCALE:GREGORIAN
BEGIN:VEVENT
DTSTART:20151015T213000Z
DTEND:20151015T220000Z
X-MICROSOFT-CDO-ALLDAYEVENT:FALSE
SUMMARY:2015 Ribbon Cutting- AmeriPro Home Loans
DESCRIPTION:Please join us for a Ribbon Cutting welcoming AmeriPro Home Loans to the Bixby Metro Chamber of Commerce family.\n\n\n\nAmeriPro Home Loans will be offering catered refreshments for those that attend.
X-ALT-DESC;FMTTYPE=text/html:Please join us for a Ribbon Cutting welcoming AmeriPro Home Loans to the Bixby Metro Chamber of Commerce family.<br />\n<br />\nAmeriPro Home Loans will be offering catered refreshments for those that attend.
LOCATION:AmeriPro Home Loans 8126 South Mingo Road Suite 200 Tulsa\, OK 74133
UID:e.1611.1654
SEQUENCE:3
DTSTAMP:20260419T224207Z
URL:https://portal.bixbychamber.com/events/details/2015-ribbon-cutting-ameripro-home-loans-10-15-2015-1654
END:VEVENT

END:VCALENDAR
