BEGIN:VCALENDAR
VERSION:2.0
PRODID:-//ChamberMaster//Event Calendar 2.0//EN
METHOD:PUBLISH
X-PUBLISHED-TTL:P3D
REFRESH-INTERVAL:P3D
CALSCALE:GREGORIAN
BEGIN:VEVENT
DTSTART:20150625T213000Z
DTEND:20150625T223000Z
X-MICROSOFT-CDO-ALLDAYEVENT:FALSE
SUMMARY:2015 Ribbon Cutting- Alliance Behavioral Health
DESCRIPTION:Please join us for a Ribbon Cutting welcoming Alliance Behavioral Health to the Bixby Metro Chamber of Commerce family. Come view the new office expansion and meet their newest therapist.
X-ALT-DESC;FMTTYPE=text/html:Please join us for a Ribbon Cutting welcoming Alliance Behavioral Health to the Bixby Metro Chamber of Commerce family. Come view the new office expansion and meet their newest therapist.
LOCATION:7715 East 111th Suite 123 Tulsa\, OK 74133
UID:e.1611.1579
SEQUENCE:3
DTSTAMP:20260420T034952Z
URL:https://portal.bixbychamber.com/events/details/2015-ribbon-cutting-alliance-behavioral-health-06-25-2015-1579
END:VEVENT

END:VCALENDAR
