BEGIN:VCALENDAR
VERSION:2.0
PRODID:-//ChamberMaster//Event Calendar 2.0//EN
METHOD:PUBLISH
X-PUBLISHED-TTL:P3D
REFRESH-INTERVAL:P3D
CALSCALE:GREGORIAN
BEGIN:VEVENT
DTSTART:20150521T213000Z
DTEND:20150521T220000Z
X-MICROSOFT-CDO-ALLDAYEVENT:FALSE
SUMMARY:2015 Ribbon Cutting- AireServ Heating & Air Conditioning
DESCRIPTION:Please join us for a Ribbon Cutting as we welcome AireServ Heating &Air Conditioning to the Bixby Metro Chamber of Commerce.
X-ALT-DESC;FMTTYPE=text/html:Please join us for a Ribbon Cutting as we welcome AireServ&nbsp\;Heating&nbsp\;&amp\;Air Conditioning to the Bixby Metro Chamber of Commerce.
LOCATION:AireServ Heating & Air Jordan Raper 505 North Armstrong Suite A and B Bixby\, OK 74008
UID:e.1611.1592
SEQUENCE:3
DTSTAMP:20260420T064555Z
URL:https://portal.bixbychamber.com/events/details/2015-ribbon-cutting-aireserv-heating-air-conditioning-05-21-2015-1592
END:VEVENT

END:VCALENDAR
