BEGIN:VCALENDAR
VERSION:2.0
PRODID:-//ChamberMaster//Event Calendar 2.0//EN
METHOD:PUBLISH
X-PUBLISHED-TTL:P3D
REFRESH-INTERVAL:P3D
CALSCALE:GREGORIAN
BEGIN:VEVENT
DTSTART:20150924T213000Z
DTEND:20150924T220000Z
X-MICROSOFT-CDO-ALLDAYEVENT:FALSE
SUMMARY:2015 Ribbon Cutting- Abbey Road Academy
DESCRIPTION:Please join us for a Ribbon Cutting as we welcome Abbey Road Academy to the Bixby Metro Chamber of Commerce
X-ALT-DESC;FMTTYPE=text/html:Please join us for a Ribbon Cutting as we welcome Abbey Road Academy to the Bixby Metro Chamber of Commerce&nbsp\;&nbsp\;&nbsp\;&nbsp\;
LOCATION:Abbey Road Academy 9 East Dawes Avenue Bixby\, OK 74008
UID:e.1611.1619
SEQUENCE:3
DTSTAMP:20260419T234633Z
URL:https://portal.bixbychamber.com/events/details/2015-ribbon-cutting-abbey-road-academy-09-24-2015-1619
END:VEVENT

END:VCALENDAR
