BEGIN:VCALENDAR
VERSION:2.0
PRODID:-//ChamberMaster//Event Calendar 2.0//EN
METHOD:PUBLISH
X-PUBLISHED-TTL:P3D
REFRESH-INTERVAL:P3D
CALSCALE:GREGORIAN
BEGIN:VEVENT
DTSTART:20150201T200000Z
DTEND:20150201T210000Z
X-MICROSOFT-CDO-ALLDAYEVENT:FALSE
SUMMARY:2015 Pray for your Legislator Day
DESCRIPTION:Pray for Your Legislator Day\n\nCome sit in the chair of your legislator and pray for them.\n\n1 Timothy 2:1-4\n\nEnter on the west side of the Capitol
X-ALT-DESC;FMTTYPE=text/html:<span style="font-size:12px\;"><span style="font-family:arial\;"><span style="color:red\;">Pray for Your Legislator Day</span><br />\n<span style="color:red\;">Come sit in the chair of your legislator and pray for them</span><span style="color:red\;">.</span><br />\n<span style="color:#4F81BD\;">1 Timothy 2:1-4</span><br />\n<span style="color:red\;">Enter on the west side of the Capitol</span></span></span>
LOCATION:State Capitol House & Senate Chamber
UID:e.1611.1556
SEQUENCE:3
DTSTAMP:20260422T084003Z
URL:https://portal.bixbychamber.com/events/details/2015-pray-for-your-legislator-day-02-01-2015-1556
END:VEVENT

END:VCALENDAR
