BEGIN:VCALENDAR
VERSION:2.0
PRODID:-//ChamberMaster//Event Calendar 2.0//EN
METHOD:PUBLISH
X-PUBLISHED-TTL:P3D
REFRESH-INTERVAL:P3D
CALSCALE:GREGORIAN
BEGIN:VEVENT
DTSTART:20150418T140000Z
DTEND:20150418T200000Z
X-MICROSOFT-CDO-ALLDAYEVENT:FALSE
SUMMARY:2015 Plastic Model Show and Contest
DESCRIPTION:The Tulsa Modelers Forum is sponsoring a Plastic Model Show and Contest. All subject types will be displayed. If you wish to enter a model\, please contact Greg Kittinger\,
X-ALT-DESC;FMTTYPE=text/html:The Tulsa Modelers Forum is sponsoring a Plastic Model Show and Contest. All subject types will be displayed. If you wish to enter a model\, please contact Greg Kittinger\,
LOCATION:Bixby Community Center 211 N. Cabaniss Bixby
UID:e.1611.1529
SEQUENCE:3
DTSTAMP:20260420T064506Z
URL:https://portal.bixbychamber.com/events/details/2015-plastic-model-show-and-contest-04-18-2015-1529
END:VEVENT

END:VCALENDAR
