BEGIN:VCALENDAR
VERSION:2.0
PRODID:-//ChamberMaster//Event Calendar 2.0//EN
METHOD:PUBLISH
X-PUBLISHED-TTL:P3D
REFRESH-INTERVAL:P3D
CALSCALE:GREGORIAN
BEGIN:VEVENT
DTSTART:20150310T140000Z
DTEND:20150310T150000Z
X-MICROSOFT-CDO-ALLDAYEVENT:FALSE
SUMMARY:2015 Operation Finally Home Groundbreaking
DESCRIPTION:Castlerock Builders and New Gulf Resources are excited to partner with Operation FINALLY HOME to provide a beautiful custom built\, mortgage-free home for Ronny and Claudia Sweger and their three boys.\n\n\n\nPlease join us as we break ground on this new home.
X-ALT-DESC;FMTTYPE=text/html:Castlerock Builders and New Gulf Resources are excited to partner with Operation FINALLY HOME to provide a beautiful custom built\, mortgage-free home for Ronny and Claudia Sweger and their three boys.<br />\n<br />\nPlease join us as we break ground on this new home.
LOCATION:1956 East 172nd Street Mounds\, OK 74047
UID:e.1611.1570
SEQUENCE:3
DTSTAMP:20260420T081923Z
URL:https://portal.bixbychamber.com/events/details/2015-operation-finally-home-groundbreaking-03-10-2015-1570
END:VEVENT

END:VCALENDAR
