BEGIN:VCALENDAR
VERSION:2.0
PRODID:-//ChamberMaster//Event Calendar 2.0//EN
METHOD:PUBLISH
X-PUBLISHED-TTL:P3D
REFRESH-INTERVAL:P3D
CALSCALE:GREGORIAN
BEGIN:VEVENT
DTSTART:20150929T203000Z
DTEND:20150929T210000Z
X-MICROSOFT-CDO-ALLDAYEVENT:FALSE
SUMMARY:2015 Operation Finally Home Dedication
DESCRIPTION:
X-ALT-DESC;FMTTYPE=text/html:
LOCATION:Bixby\, OK -Please contact the chamber for exact address
UID:e.1611.1664
SEQUENCE:3
DTSTAMP:20260420T010334Z
URL:https://portal.bixbychamber.com/events/details/2015-operation-finally-home-dedication-09-29-2015-1664
END:VEVENT

END:VCALENDAR
