BEGIN:VCALENDAR
VERSION:2.0
PRODID:-//ChamberMaster//Event Calendar 2.0//EN
METHOD:PUBLISH
X-PUBLISHED-TTL:P3D
REFRESH-INTERVAL:P3D
CALSCALE:GREGORIAN
BEGIN:VEVENT
DTSTART:20151119T213000Z
DTEND:20151119T223000Z
X-MICROSOFT-CDO-ALLDAYEVENT:FALSE
SUMMARY:2015 Open House- J.Miller Law Firm
DESCRIPTION:Please join J.Miller Law Firm as they celebrate one year in business! Please stop by for refreshment before they host their Ribbon Cutting with the Bixby Metro Chamber of Commerce.
X-ALT-DESC;FMTTYPE=text/html:Please join J.Miller Law Firm as they celebrate one year in business! Please stop by for refreshment before they host their Ribbon Cutting with the Bixby Metro Chamber of Commerce.
LOCATION:J. Miller Law Firm\, PLLC 7633 E. 63rd Place\, Suite 300 Tulsa\, OK 74133
UID:e.1611.1684
SEQUENCE:3
DTSTAMP:20260419T210853Z
URL:https://portal.bixbychamber.com/events/details/2015-open-house-j-miller-law-firm-11-19-2015-1684
END:VEVENT

END:VCALENDAR
