BEGIN:VCALENDAR
VERSION:2.0
PRODID:-//ChamberMaster//Event Calendar 2.0//EN
METHOD:PUBLISH
X-PUBLISHED-TTL:P3D
REFRESH-INTERVAL:P3D
CALSCALE:GREGORIAN
BEGIN:VEVENT
DTSTART:20150501T150000Z
DTEND:20150501T170000Z
X-MICROSOFT-CDO-ALLDAYEVENT:FALSE
SUMMARY:2015 Oklahoma Turnpike Authority Car Seat Safety Check Event
DESCRIPTION:The Oklahoma Turnpike Authority (OTA) invites the public to attend their Children?s Car Seat Safety Check event on Friday\, May 1 for free child safety seat inspections and family fun at Haikey Creek Park?s triplex area on 11327 South Garnett Road in Bixby from 10 a.m. to 12 p.m. OTA is partnering with the Oklahoma Department of Public Safety (ODPS)\, Oklahoma Highway Patrol (OHP) and Safe Kids Tulsa to provide families with free inspections for their child?s car seat. The event will feature a Kona Ice snow cone truck and children?s games. The first 50 people to attend will receive free snow cones.
X-ALT-DESC;FMTTYPE=text/html:The Oklahoma Turnpike Authority (OTA) invites the public to attend their Children?s Car Seat Safety Check event on Friday\, May 1 for free child safety seat inspections and family fun at Haikey Creek Park?s triplex area on 11327 South Garnett Road in Bixby from 10 a.m. to 12 p.m. OTA is partnering with the Oklahoma Department of Public Safety (ODPS)\, Oklahoma Highway Patrol (OHP) and Safe Kids Tulsa to provide families with free inspections for their child?s car seat. The event will feature a Kona Ice snow cone truck and children?s games. The first 50 people to attend will receive free snow cones.
LOCATION:Haikey Creek Park\, Triplex area\, 11327 South Garnett Road\, Bixby\, OK 74008
UID:e.1611.1599
SEQUENCE:3
DTSTAMP:20260420T053014Z
URL:https://portal.bixbychamber.com/events/details/2015-oklahoma-turnpike-authority-car-seat-safety-check-event-05-01-2015-1599
END:VEVENT

END:VCALENDAR
