BEGIN:VCALENDAR
VERSION:2.0
PRODID:-//ChamberMaster//Event Calendar 2.0//EN
METHOD:PUBLISH
X-PUBLISHED-TTL:P3D
REFRESH-INTERVAL:P3D
CALSCALE:GREGORIAN
BEGIN:VEVENT
DTSTART:20150826T130000Z
DTEND:20150826T183000Z
X-MICROSOFT-CDO-ALLDAYEVENT:FALSE
SUMMARY:2015 Oklahoma Technology Showcase
DESCRIPTION:Building on last year's success\, the 2015 Oklahoma Technology Showcase will feature six of the state's most promising high-tech companies. Showcase presenters will give high energy talks focusing on their innovative products or services\, as well as life lessons learned as they pursued their ambitions. Participate in a morning discussion with special guest 1 Million Cups\, and listen to Jim Brice of Google as our keynote speaker. Finally\, wrap up the day with a robotics showcase organized by The Forge. Breakfast\, lunch and a dessert reception will be provided.\n\n\n\nJoin us for a mixer on August 25\, from 5:00 - 7:00 p.m. Hosted by 36 Degrees North and The Forge\, you will get a chance to mingle with fellow entrepreneurs! Register to attend at http://2015showcasemixer.eventbrite.com.
X-ALT-DESC;FMTTYPE=text/html:Building on last year&rsquo\;s success\, the 2015 Oklahoma Technology Showcase will&nbsp\;feature six of the state&rsquo\;s most promising high-tech companies. Showcase presenters&nbsp\;will give high energy talks focusing on their innovative products or services\, as well&nbsp\;as life lessons learned as they pursued their ambitions. Participate in a morning&nbsp\;discussion with special guest 1 Million Cups\, and listen to Jim Brice of Google as our&nbsp\;keynote speaker. Finally\, wrap up the day with a robotics showcase organized by The&nbsp\;Forge. Breakfast\, lunch and a dessert reception will be provided.<br />\n<br />\nJoin us for a mixer on August 25\, from 5:00 - 7:00 p.m. Hosted by 36 Degrees North and&nbsp\;The Forge\, you will get a chance to mingle with fellow entrepreneurs!&nbsp\;Register to attend at http://2015showcasemixer.eventbrite.com.
LOCATION:Northeastern State University- Broken Arrow
UID:e.1611.1656
SEQUENCE:3
DTSTAMP:20260420T010209Z
URL:https://portal.bixbychamber.com/events/details/2015-oklahoma-technology-showcase-08-26-2015-1656
END:VEVENT

END:VCALENDAR
