BEGIN:VCALENDAR
VERSION:2.0
PRODID:-//ChamberMaster//Event Calendar 2.0//EN
METHOD:PUBLISH
X-PUBLISHED-TTL:P3D
REFRESH-INTERVAL:P3D
CALSCALE:GREGORIAN
BEGIN:VEVENT
DTSTART:20151120T173000Z
DTEND:20151120T190000Z
X-MICROSOFT-CDO-ALLDAYEVENT:FALSE
SUMMARY:2015 November Learn Over Lunch
DESCRIPTION:Learn Over Lunch educational program\, partners will mentor other partners on important business skills including personal and professional development\, educational growth and the latest trends and technology. Join us for lunch and take some time out of your day to learn from an expert.\n\n\n\nNovember Learn Over Lunch:\n\n"Inbound Marketing: Why it is so effective at developing business in today's economy."  In this session you will learn about the Philosophy and Methodology behind Inbound Marketing\, as well as learn the Tools you will need to make it happen.  \n\n\n\nFacilitator: Oscar Quiroga\, Q&A Solutions
X-ALT-DESC;FMTTYPE=text/html:<em style="line-height: 20.8px\;"><em>Learn Over Lunch educational program\, partners will mentor other partners on important business skills including personal and professional development\, educational growth and the latest trends and technology. Join us for lunch and take some time out of your day to learn from an expert.<br />\n<br />\n<strong>November Learn Over Lunch:</strong></em></em><br style="line-height: 20.8px\;" />\n<span style="line-height: 20.8px\; font-family: calibri\, sans-serif\;"><span style="font-size: 11pt\;">&quot\;Inbound Marketing: Why it is so effective at developing business in today&#39\;s economy.&quot\; &nbsp\;In this session you will learn about the Philosophy and Methodology behind Inbound Marketing\, as well as learn the Tools you will need to make it happen. &nbsp\;<br />\n<br />\n<strong>Facilitator:</strong> Oscar Quiroga\, <em>Q&amp\;A Solutions</em></span></span>
LOCATION:Chamber Board Room
UID:e.1611.1503
SEQUENCE:3
DTSTAMP:20260419T210640Z
URL:https://portal.bixbychamber.com/events/details/2015-november-learn-over-lunch-11-20-2015-1503
END:VEVENT

END:VCALENDAR
