BEGIN:VCALENDAR
VERSION:2.0
PRODID:-//ChamberMaster//Event Calendar 2.0//EN
METHOD:PUBLISH
X-PUBLISHED-TTL:P3D
REFRESH-INTERVAL:P3D
CALSCALE:GREGORIAN
BEGIN:VEVENT
DTSTART:20151207T173000Z
DTEND:20151207T190000Z
X-MICROSOFT-CDO-ALLDAYEVENT:FALSE
SUMMARY:2015 Mayor's State of the City
DESCRIPTION:The Bixby Metro Chamber strives hand-in-hand with the City to make Bixby the best place for business and living. Join us as Mayor John Easton provides an update on the current state of Bixby and also gives us a glimpse into the bright future of one of the fastest growing cities in Oklahoma.
X-ALT-DESC;FMTTYPE=text/html:<span style="color:#222222\;"><span style="font-family:arial\,sans-serif\;"><span style="font-size:10.0pt\;">The Bixby Metro Chamber strives hand-in-hand with the City to make Bixby the best place for business and living. Join us as Mayor John Easton provides an update on the current state of Bixby and also gives us a glimpse into the bright future of one of the fastest growing cities in Oklahoma.&nbsp\;</span></span></span>
LOCATION:Michael V's 8222 East 103rd Street Suite 137 Tulsa\, OK 74133
UID:e.1611.1552
SEQUENCE:3
DTSTAMP:20260419T194022Z
URL:https://portal.bixbychamber.com/events/details/2015-mayor-s-state-of-the-city-12-07-2015-1552
END:VEVENT

END:VCALENDAR
