BEGIN:VCALENDAR
VERSION:2.0
PRODID:-//ChamberMaster//Event Calendar 2.0//EN
METHOD:PUBLISH
X-PUBLISHED-TTL:P3D
REFRESH-INTERVAL:P3D
CALSCALE:GREGORIAN
BEGIN:VEVENT
DTSTART:20150310T123000Z
DTEND:20150310T140000Z
X-MICROSOFT-CDO-ALLDAYEVENT:FALSE
SUMMARY:2015 Management Leadership Institute Breakfast Series- Leaders Transforming Business
DESCRIPTION:March Speaker- Sean Kouplen\n\n\n\nThis event brings together an amazing diversity of Business Leaders\, many Top Officers\, Board Members and Business Owners dedicated to transforming their for-profit and not-for-profit businesses. \n\n\n\n  - Hot Breakfast Buffet & Fruit \n\n  - Free Parking\n\n  - Exceptional give-a-ways!
X-ALT-DESC;FMTTYPE=text/html:<span style="font-size:12px\;"><span style="font-family:arial\;"><font class="size12 Helvetica12" style="box-sizing: border-box\; border: 0px solid rgb(85\, 43\, 32)\; -webkit-font-smoothing: antialiased\; -webkit-tap-highlight-color: rgba(0\, 0\, 0\, 0)\; font-size: 16px\; line-height: normal\; font-family: Helvetica\, Arial\, sans-serif\; color: rgb(0\, 0\, 0)\;">March Speaker- Sean&nbsp\;Kouplen<br />\n<br />\nThis event brings together an amazing diversity of Business Leaders\, many Top Officers\, Board Members and Business Owners dedicated to transforming their for-profit and not-for-profit businesses.</font><span style="line-height: normal\;">&nbsp\;</span><br id="1674905124" style="box-sizing: border-box\; border: 0px solid rgb(85\, 43\, 32)\; -webkit-font-smoothing: antialiased\; -webkit-tap-highlight-color: rgba(0\, 0\, 0\, 0)\; font-family: 'Source Sans Pro'\; font-size: 16px\; line-height: normal\;" />\n<br id="1226518952" style="box-sizing: border-box\; border: 0px solid rgb(85\, 43\, 32)\; -webkit-font-smoothing: antialiased\; -webkit-tap-highlight-color: rgba(0\, 0\, 0\, 0)\; font-family: 'Source Sans Pro'\; font-size: 16px\; line-height: normal\;" />\n<font class="size14 Helvetica14 size-17 m-size-17" style="box-sizing: border-box\; border: 0px solid rgb(85\, 43\, 32)\; -webkit-font-smoothing: antialiased\; -webkit-tap-highlight-color: rgba(0\, 0\, 0\, 0)\; line-height: normal\; font-family: Helvetica\; color: rgb(0\, 0\, 0)\; font-weight: 700\; font-size: 17px !important\;">&nbsp\;&nbsp\;<font style="box-sizing: border-box\; border: 0px solid rgb(85\, 43\, 32)\; -webkit-font-smoothing: antialiased\; -webkit-tap-highlight-color: rgba(0\, 0\, 0\, 0)\;">- Hot Breakfast Buffet &amp\; Fruit</font>&nbsp\;<br id="1580324365" style="box-sizing: border-box\; border: 0px solid rgb(85\, 43\, 32)\; -webkit-font-smoothing: antialiased\; -webkit-tap-highlight-color: rgba(0\, 0\, 0\, 0)\;" />\n&nbsp\; - Free Parking</font><br id="1144243194" style="box-sizing: border-box\; border: 0px solid rgb(85\, 43\, 32)\; -webkit-font-smoothing: antialiased\; -webkit-tap-highlight-color: rgba(0\, 0\, 0\, 0)\; font-family: 'Source Sans Pro'\; font-size: 16px\; line-height: normal\;" />\n<font class="size14 Helvetica14 size-17 m-size-17" style="box-sizing: border-box\; border: 0px solid rgb(85\, 43\, 32)\; -webkit-font-smoothing: antialiased\; -webkit-tap-highlight-color: rgba(0\, 0\, 0\, 0)\; line-height: normal\; font-family: Helvetica\, Arial\, sans-serif\; color: rgb(0\, 0\, 0)\; font-weight: 700\; font-size: 17px !important\;">&nbsp\; - Exceptional give-a-ways!</font></span></span>
LOCATION:Wyndham Hotel 10918 East 41st Street Tulsa\, OK 74145
UID:e.1611.1571
SEQUENCE:3
DTSTAMP:20260420T082251Z
URL:https://portal.bixbychamber.com/events/details/2015-management-leadership-institute-breakfast-series-leaders-transforming-business-03-10-2015-1571
END:VEVENT

END:VCALENDAR
