BEGIN:VCALENDAR
VERSION:2.0
PRODID:-//ChamberMaster//Event Calendar 2.0//EN
METHOD:PUBLISH
X-PUBLISHED-TTL:P3D
REFRESH-INTERVAL:P3D
CALSCALE:GREGORIAN
BEGIN:VEVENT
DTSTART:20150609T230000Z
DTEND:20150610T010000Z
X-MICROSOFT-CDO-ALLDAYEVENT:FALSE
SUMMARY:2015 Let's Wine About Our Skin Together
DESCRIPTION:6:00 PM Wine and Whine\n\n6:30 PM Myths & Realities of Contemporary Skincare\n\n7:30 Drawing for "Botox on the Spot"
X-ALT-DESC;FMTTYPE=text/html:6:00 PM Wine and Whine<br />\n6:30 PM Myths &amp\; Realities of Contemporary Skincare<br />\n7:30 Drawing for &quot\;Botox on the Spot&quot\;
LOCATION:WellQuest Medical & Wellness Corporation 8005 East 106th Street Tulsa\, OK 74133
UID:e.1611.1623
SEQUENCE:3
DTSTAMP:20260420T034819Z
URL:https://portal.bixbychamber.com/events/details/2015-let-s-wine-about-our-skin-together-06-09-2015-1623
END:VEVENT

END:VCALENDAR
