BEGIN:VCALENDAR
VERSION:2.0
PRODID:-//ChamberMaster//Event Calendar 2.0//EN
METHOD:PUBLISH
X-PUBLISHED-TTL:P3D
REFRESH-INTERVAL:P3D
CALSCALE:GREGORIAN
BEGIN:VEVENT
DTSTART:20150919T120000Z
DTEND:20150919T170000Z
X-MICROSOFT-CDO-ALLDAYEVENT:FALSE
SUMMARY:2015 Lake Bixhoma Community Work Day
DESCRIPTION:This workday will consist of volunteers working to clean up Lake Bixhoma.  This will include trash pickup\, landscape work\, and more.
X-ALT-DESC;FMTTYPE=text/html:<span style="font-family:calibri\,sans-serif\;"><span style="font-size:11.0pt\;">This workday will consist of volunteers working to clean up Lake Bixhoma.&nbsp\; This will include trash pickup\, landscape work\, and more.&nbsp\;</span></span>
LOCATION:Lake Bixhoma
UID:e.1611.1651
SEQUENCE:3
DTSTAMP:20260419T234543Z
URL:https://portal.bixbychamber.com/events/details/2015-lake-bixhoma-community-work-day-09-19-2015-1651
END:VEVENT

END:VCALENDAR
