BEGIN:VCALENDAR
VERSION:2.0
PRODID:-//ChamberMaster//Event Calendar 2.0//EN
METHOD:PUBLISH
X-PUBLISHED-TTL:P3D
REFRESH-INTERVAL:P3D
CALSCALE:GREGORIAN
BEGIN:VEVENT
DTSTART:20150623T130000Z
DTEND:20150623T140000Z
X-MICROSOFT-CDO-ALLDAYEVENT:FALSE
SUMMARY:2015 June Engagement Council
DESCRIPTION:You are cordially invited to have coffee with  \n\n			Bixby Metro Chamber Leadership\n\n			as they meet with business partners.\n		\n	\n\n \n\n\n	\n		\n			This is a great opportunity to have your voice heard \n\n			by the Bixby Metro Chamber of Commerce.\n\n			\n\n			Please feel free to share all positives and negatives you have about \n\n			the Chamber\, and help us grow to be the strongest organization we can. \n\n			\n\n			The focus of this meeting will be river development in our Region.  We will be encouraging all Partners who are interested in the river and the development in our community to attend.
X-ALT-DESC;FMTTYPE=text/html:<table border="0" cellpadding="0" cellspacing="0" style="width:100.0%\;border-collapse:collapse\;" width="100%">\n	<tbody>\n		<tr>\n			<td style="padding:3.75pt 3.75pt 3.75pt 3.75pt\;"><span style="font-size:14px\;"><span style="font-family:arial\;"><span style="color:black\;">You are cordially invited to have coffee with&nbsp\;&nbsp\;</span><br />\n			<strong><span style="color:#29ABE2\;">Bixby Metro Chamber Leadership</span></strong><br />\n			<span style="color:black\;">as they meet with business partners.</span></span></span></td>\n		</tr>\n	</tbody>\n</table>\n&nbsp\;\n\n<table border="0" cellpadding="0" cellspacing="0" id="content_LETTER.BLOCK15" style="width:100.0%\;border-collapse:collapse\;" width="100%">\n	<tbody>\n		<tr>\n			<td style="padding:3.75pt 3.75pt 3.75pt 3.75pt\;"><span style="font-size:14px\;"><span style="font-family:arial\;"><span style="color:black\;">This is a great opportunity to have your voice heard&nbsp\;</span><br />\n			<span style="color:black\;">by the Bixby Metro Chamber of Commerce.<br />\n			<br />\n			Please feel free to share all positives and negatives you have about&nbsp\;</span><br />\n			<span style="color:black\;">the Chamber\, and help us grow to be the strongest organization we can.</span>&nbsp\;<br />\n			<br />\n			The focus of this meeting will be river development in our Region.&nbsp\; We will be encouraging all Partners who are interested in the river and the development in our community to attend.&nbsp\;</span></span></td>\n		</tr>\n	</tbody>\n</table>\n
LOCATION:Bixby Metro Chamber of Commerce SpiritBank Event Center Suite 104
UID:e.1611.1632
SEQUENCE:3
DTSTAMP:20260420T051411Z
URL:https://portal.bixbychamber.com/events/details/2015-june-engagement-council-06-23-2015-1632
END:VEVENT

END:VCALENDAR
