BEGIN:VCALENDAR
VERSION:2.0
PRODID:-//ChamberMaster//Event Calendar 2.0//EN
METHOD:PUBLISH
X-PUBLISHED-TTL:P3D
REFRESH-INTERVAL:P3D
CALSCALE:GREGORIAN
BEGIN:VEVENT
DTSTART:20150716T223000Z
DTEND:20150717T000000Z
X-MICROSOFT-CDO-ALLDAYEVENT:FALSE
SUMMARY:2015 July After Hours
DESCRIPTION:A very relaxed and casual networking event that gives the highlighted business a great opportunity to promote your products and services. Food and beverages will be provided.
X-ALT-DESC;FMTTYPE=text/html:<span style="line-height: 20.7999992370605px\;">A very relaxed and casual networking event that gives the highlighted&nbsp\;business a great opportunity to promote your products and services. Food and beverages will be&nbsp\;provided.&nbsp\;</span>
LOCATION:Urban Couture 7890 East 106th Place South Suite V12 Tulsa\, OK 74133
UID:e.1611.1500
SEQUENCE:3
DTSTAMP:20260420T022059Z
URL:https://portal.bixbychamber.com/events/details/2015-july-after-hours-07-16-2015-1500
END:VEVENT

END:VCALENDAR
