BEGIN:VCALENDAR
VERSION:2.0
PRODID:-//ChamberMaster//Event Calendar 2.0//EN
METHOD:PUBLISH
X-PUBLISHED-TTL:P3D
REFRESH-INTERVAL:P3D
CALSCALE:GREGORIAN
BEGIN:VEVENT
DTSTART:20150912T160000Z
DTEND:20150912T210000Z
X-MICROSOFT-CDO-ALLDAYEVENT:FALSE
SUMMARY:2015 J David Rockin" Jeep Fest
DESCRIPTION:J David Rockin" Jeep Fest\n\nFood trucks\n\nMusic\n\nJeep awards \n\nSoldiers Wish\n\nRaffle for custom Jeep designed ring- proceeds go to Soldiers Wish
X-ALT-DESC;FMTTYPE=text/html:<span style="color:black\;"><span style="font-family:verdana\,sans-serif\;"><span style="font-size:10.0pt\;">J David Rockin&quot\; Jeep Fest</span></span></span><br />\n<span style="color:black\;"><span style="font-family:verdana\,sans-serif\;"><span style="font-size:10.0pt\;">Food trucks</span></span></span><br />\n<span style="color:black\;"><span style="font-family:verdana\,sans-serif\;"><span style="font-size:10.0pt\;">Music</span></span></span><br />\n<span style="color:black\;"><span style="font-family:verdana\,sans-serif\;"><span style="font-size:10.0pt\;">Jeep awards&nbsp\;</span></span></span><br />\n<span style="color:black\;"><span style="font-family:verdana\,sans-serif\;"><span style="font-size:10.0pt\;">Soldiers Wish</span></span></span><br />\n<span style="color:black\;"><span style="font-family:verdana\,sans-serif\;"><span style="font-size:10.0pt\;">Raffle for custom Jeep designed ring- proceeds go to Soldiers Wish</span></span></span>
LOCATION:101st and Memorial
UID:e.1611.1650
SEQUENCE:3
DTSTAMP:20260419T234604Z
URL:https://portal.bixbychamber.com/events/details/2015-j-david-rockin-jeep-fest-09-12-2015-1650
END:VEVENT

END:VCALENDAR
