BEGIN:VCALENDAR
VERSION:2.0
PRODID:-//ChamberMaster//Event Calendar 2.0//EN
METHOD:PUBLISH
X-PUBLISHED-TTL:P3D
REFRESH-INTERVAL:P3D
CALSCALE:GREGORIAN
BEGIN:VEVENT
DTSTART:20150618T180000Z
DTEND:20150618T210000Z
X-MICROSOFT-CDO-ALLDAYEVENT:FALSE
SUMMARY:2015 High Impact Leadership Through Effective Communication
DESCRIPTION:Learn how leadership and communication skills are integrally tied--how messages can be framed to motivate. Sharpen active listening\, assertive messages\, clarifying\, silence\, and facilitating deeper understanding through debriefings. Learn strategies for handling difficult situations\, holding constructive meetings\, emailing\, and negotiating. Participants should come prepared for practical skill building and a scenario that fits their present situation.
X-ALT-DESC;FMTTYPE=text/html:Learn how leadership and communication skills are integrally tied--how messages can be framed to motivate. Sharpen active listening\, assertive messages\, clarifying\, silence\, and facilitating deeper understanding through debriefings. Learn strategies for handling difficult situations\, holding constructive meetings\, emailing\, and negotiating. Participants should come prepared for practical skill building and a scenario that fits their present situation.
LOCATION:Thomas K. McKeon Center for Creativity 910 South Boston Avenue Tulsa\, OK 74119
UID:e.1611.1597
SEQUENCE:3
DTSTAMP:20260420T034616Z
URL:https://portal.bixbychamber.com/events/details/2015-high-impact-leadership-through-effective-communication-06-18-2015-1597
END:VEVENT

END:VCALENDAR
