BEGIN:VCALENDAR
VERSION:2.0
PRODID:-//ChamberMaster//Event Calendar 2.0//EN
METHOD:PUBLISH
X-PUBLISHED-TTL:P3D
REFRESH-INTERVAL:P3D
CALSCALE:GREGORIAN
BEGIN:VEVENT
DTSTART:20150227T003000Z
DTEND:20150227T013000Z
X-MICROSOFT-CDO-ALLDAYEVENT:FALSE
SUMMARY:2015 Heart Healthy Eating & Menu Planning Seminar Hosted By Forest Hills
DESCRIPTION:Join us in learning how to plan a Healthy Heart Menu as well as what foods are Heart Friendly.\n\nEvery participant will receive a \n\n1 week heart healthy diet menu and \n\nentry into a drawing for a Heart Healthy Gift Pack
X-ALT-DESC;FMTTYPE=text/html:<span style="font-size:12px\;"><span style="font-family:arial\;">Join us in learning how to plan a Healthy Heart Menu as well as what foods are Heart Friendly.<br />\n<strong><em><span style="color:black\;">Every participant will receive a </span></em></strong><br />\n<strong><em><span style="color:black\;">1 week heart healthy diet menu and </span></em></strong><br />\n<strong><em><span style="color:black\;">entry into a drawing for a Heart Healthy Gift Pack</span></em></strong></span></span>
LOCATION:Forest Hills Retirement Community 4304 W Houston (81st between Garnett and 129th) Broken Arrow\, OK
UID:e.1611.1564
SEQUENCE:3
DTSTAMP:20260422T084409Z
URL:https://portal.bixbychamber.com/events/details/2015-heart-healthy-eating-menu-planning-seminar-hosted-by-forest-hills-02-26-2015-1564
END:VEVENT

END:VCALENDAR
