BEGIN:VCALENDAR
VERSION:2.0
PRODID:-//ChamberMaster//Event Calendar 2.0//EN
METHOD:PUBLISH
X-PUBLISHED-TTL:P3D
REFRESH-INTERVAL:P3D
CALSCALE:GREGORIAN
BEGIN:VEVENT
DTSTART:20150528T164500Z
DTEND:20150528T180000Z
X-MICROSOFT-CDO-ALLDAYEVENT:FALSE
SUMMARY:2015 Green Corn Festival Poster Auction
DESCRIPTION:The Bixby Optimist Club proudly invites you to join us for our Annual Green Corn Festival Poster Auction. The money raised will be used on such projects as:\n\n The Foster Children's Christmas Party\n\nStudent Scholarships\n\nAnnual Fishing Derby
X-ALT-DESC;FMTTYPE=text/html:The Bixby Optimist Club proudly invites you to join us for our Annual Green Corn Festival Poster Auction. The money raised will be used on such projects as:<br />\n&nbsp\;The Foster Children&#39\;s Christmas Party<br />\nStudent Scholarships<br />\nAnnual Fishing Derby
LOCATION:Michael V's 8222 East 103rd Street Suite 137 Tulsa\, OK 74133
UID:e.1611.1621
SEQUENCE:3
DTSTAMP:20260420T053316Z
URL:https://portal.bixbychamber.com/events/details/2015-green-corn-festival-poster-auction-05-28-2015-1621
END:VEVENT

END:VCALENDAR
