BEGIN:VCALENDAR
VERSION:2.0
PRODID:-//ChamberMaster//Event Calendar 2.0//EN
METHOD:PUBLISH
X-PUBLISHED-TTL:P3D
REFRESH-INTERVAL:P3D
CALSCALE:GREGORIAN
BEGIN:VEVENT
DTSTART:20151003T140000Z
DTEND:20151003T200000Z
X-MICROSOFT-CDO-ALLDAYEVENT:FALSE
SUMMARY:2015 Greater Tulsa Area Train Show
DESCRIPTION:Greater Tulsa Area Train Show\n\nBuy- Sell- Trade\n\nAll Scales
X-ALT-DESC;FMTTYPE=text/html:Greater Tulsa Area Train Show<br />\nBuy- Sell- Trade<br />\nAll Scales
LOCATION:Bixby Community Center 211 North Cabaniss Bixby\, OK 74008
UID:e.1611.1673
SEQUENCE:3
DTSTAMP:20260419T223647Z
URL:https://portal.bixbychamber.com/events/details/2015-greater-tulsa-area-train-show-10-03-2015-1673
END:VEVENT

END:VCALENDAR
