BEGIN:VCALENDAR
VERSION:2.0
PRODID:-//ChamberMaster//Event Calendar 2.0//EN
METHOD:PUBLISH
X-PUBLISHED-TTL:P3D
REFRESH-INTERVAL:P3D
CALSCALE:GREGORIAN
BEGIN:VEVENT
DTSTART:20150912T160000Z
DTEND:20150912T190000Z
X-MICROSOFT-CDO-ALLDAYEVENT:FALSE
SUMMARY:2015 Grand Opening: Blink Lash & Blowdry Bar
DESCRIPTION:EXTRA MILE Event Planning is excited to announce a fabulous grand opening for Blink Lash and Blow Dry Bar. We will have eyelash demonstrations\, giveaways\, bounce house\, face painter\, games\, music\, refreshments\, prizes and much more.
X-ALT-DESC;FMTTYPE=text/html:EXTRA MILE Event Planning is excited to announce a fabulous grand opening for Blink Lash and Blow Dry Bar. We will have eyelash demonstrations\, giveaways\, bounce house\, face painter\, games\, music\, refreshments\, prizes and much more.
LOCATION:Blink Lash and Blow Dry Bar 11011 S Memorial Drive Tulsa\, Oklahoma 74137
UID:e.1611.1665
SEQUENCE:3
DTSTAMP:20260420T010627Z
URL:https://portal.bixbychamber.com/events/details/2015-grand-opening-blink-lash-blowdry-bar-09-12-2015-1665
END:VEVENT

END:VCALENDAR
