BEGIN:VCALENDAR
VERSION:2.0
PRODID:-//ChamberMaster//Event Calendar 2.0//EN
METHOD:PUBLISH
X-PUBLISHED-TTL:P3D
REFRESH-INTERVAL:P3D
CALSCALE:GREGORIAN
BEGIN:VEVENT
DTSTART:20150126T163000Z
DTEND:20150126T170000Z
X-MICROSOFT-CDO-ALLDAYEVENT:FALSE
SUMMARY:2015 Grand Opening and Ribbon Cutting- Noodles & Company
DESCRIPTION:Please join us for a Ribbon Cutting and Grand Opening welcoming Noodles & Company to the chamber family.
X-ALT-DESC;FMTTYPE=text/html:Please join us for a Ribbon Cutting and Grand Opening&nbsp\;welcoming Noodles &amp\; Company to the chamber family.
LOCATION:Noodles and Company 9205 East 71st Street Tulsa\, OK 74113
UID:e.1611.1516
SEQUENCE:3
DTSTAMP:20260420T122240Z
URL:https://portal.bixbychamber.com/events/details/2015-grand-opening-and-ribbon-cutting-noodles-company-01-26-2015-1516
END:VEVENT

END:VCALENDAR
