BEGIN:VCALENDAR
VERSION:2.0
PRODID:-//ChamberMaster//Event Calendar 2.0//EN
METHOD:PUBLISH
X-PUBLISHED-TTL:P3D
REFRESH-INTERVAL:P3D
CALSCALE:GREGORIAN
BEGIN:VEVENT
DTSTART:20150527T140000Z
DTEND:20150527T153000Z
X-MICROSOFT-CDO-ALLDAYEVENT:FALSE
SUMMARY:2015 Governor's Council for Workforce and Economic Developement
DESCRIPTION:Public input meeting Oklahoma Department of Commerce is hosting regarding workforce planning regions\, the designation of which will be crucial component of Workforce Tulsa's future success.
X-ALT-DESC;FMTTYPE=text/html:Public input meeting&nbsp\;Oklahoma Department of Commerce is hosting regarding workforce planning regions\, the designation of which will be crucial component of Workforce Tulsa&rsquo\;s future success.<br />\n&nbsp\;
LOCATION:Tulsa Technology Center's Career Service Center at the Memorial Complex 3420 South Memorial Drive
UID:e.1611.1620
SEQUENCE:3
DTSTAMP:20260420T052347Z
URL:https://portal.bixbychamber.com/events/details/2015-governor-s-council-for-workforce-and-economic-developement-05-27-2015-1620
END:VEVENT

END:VCALENDAR
