BEGIN:VCALENDAR
VERSION:2.0
PRODID:-//ChamberMaster//Event Calendar 2.0//EN
METHOD:PUBLISH
X-PUBLISHED-TTL:P3D
REFRESH-INTERVAL:P3D
CALSCALE:GREGORIAN
BEGIN:VEVENT
DTSTART:20151119T140000Z
DTEND:20151119T150000Z
X-MICROSOFT-CDO-ALLDAYEVENT:FALSE
SUMMARY:2015 Government Affairs Committee
DESCRIPTION:This committee provides leadership to the partnership and community in influencing governmental policies at local and state levels in order to promote community interests\, transportation\, infrastructure\, education and business development. They assist in facilitating communication with our state and federal delegation through hosting functions as well as attending regional events such as Tulsa Regional Day at the Capitol and an annual Washington DC Fly-In.
X-ALT-DESC;FMTTYPE=text/html:This committee provides leadership to the partnership and community in influencing governmental policies at local and state levels in order to promote community interests\, transportation\, infrastructure\, education and business development. They assist in facilitating communication with our state and federal delegation through hosting functions as well as attending regional events such as Tulsa Regional Day at the Capitol and an annual Washington DC Fly-In.
LOCATION:Bixby Metro Chamber of Commerce Board Room 10441 South Regal Boulevard Suite 104 Tulsa\, OK 74133
UID:e.1611.1679
SEQUENCE:3
DTSTAMP:20260419T222805Z
URL:https://portal.bixbychamber.com/events/details/2015-government-affairs-committee-11-19-2015-1679
END:VEVENT

END:VCALENDAR
