BEGIN:VCALENDAR
VERSION:2.0
PRODID:-//ChamberMaster//Event Calendar 2.0//EN
METHOD:PUBLISH
X-PUBLISHED-TTL:P3D
REFRESH-INTERVAL:P3D
CALSCALE:GREGORIAN
BEGIN:VEVENT
DTSTART:20150921T170000Z
DTEND:20150921T220000Z
X-MICROSOFT-CDO-ALLDAYEVENT:FALSE
SUMMARY:2015 Golf Fore Food
DESCRIPTION:The only golf tournament where every team plays with a Pro!\n\n \n\nBenefitting: The Community Food Bank of Eastern Oklahoma\n\n \n\nPresented by: Brock and Associates\, PGA South Central\, Southwestern Payroll\, Mabrey Bank\, Rich & Cartmill\, Inc.\, Hodges Warehouse.
X-ALT-DESC;FMTTYPE=text/html:<em>The only golf tournament where every team plays with a Pro!</em><br />\n&nbsp\;<br />\nBenefitting: The Community Food Bank of Eastern Oklahoma<br />\n&nbsp\;<br />\nPresented by: Brock and Associates\, PGA South Central\, Southwestern Payroll\, Mabrey Bank\, Rich &amp\; Cartmill\, Inc.\, Hodges Warehouse.
LOCATION:Forest Ridge Golf Club\, Broken Arrow\, OK
UID:e.1611.1610
SEQUENCE:3
DTSTAMP:20260419T234106Z
URL:https://portal.bixbychamber.com/events/details/2015-golf-fore-food-09-21-2015-1610
END:VEVENT

END:VCALENDAR
