BEGIN:VCALENDAR
VERSION:2.0
PRODID:-//ChamberMaster//Event Calendar 2.0//EN
METHOD:PUBLISH
X-PUBLISHED-TTL:P3D
REFRESH-INTERVAL:P3D
CALSCALE:GREGORIAN
BEGIN:VEVENT
DTSTART:20150424T110000Z
DTEND:20150425T180000Z
X-MICROSOFT-CDO-ALLDAYEVENT:FALSE
SUMMARY:2015 Free Landfill Days for Bixby Residents
DESCRIPTION:The City of Bixby will offer free landfill days at the Quarry Landfill in North Tulsa to Bixby residents Friday\, April 24th & Saturday\, April 25\, 2015. The Quarry Landfill is located at 13740 E 46th St North in Tulsa. HOURS: Friday 6:00 AM until 5:30 PM Saturdays 7:00 AM until 1:00 PM CLOSED SUNDAYS \n\n\n\nParticipants must show a City of Bixby utility bill or drivers license with an address within the Bixby City limits in order to be admitted to the landfill.\n\n\n\nNo items containing Freon refrigerant will be accepted ( air conditioners and refrigerators). There will be a two dollar ($2) fee for each discarded tire to cover state fees for disposal and recycling of tires.\n\n\n\nLoads in truck and trailers should be secure and covered to prevent contents from blowing onto the roadways and creating traffic hazards. \n\n\n\nFor more information and directions contact the Quarry Landfill at 439-7835 or City of Bixby at 918-366-4430.
X-ALT-DESC;FMTTYPE=text/html:The City of Bixby will offer free landfill days at the Quarry Landfill in North Tulsa to Bixby residents Friday\, April 24th &amp\; Saturday\, April 25\, 2015. The Quarry Landfill is located at 13740 E 46th St North in Tulsa. HOURS: Friday 6:00 AM until 5:30 PM Saturdays 7:00 AM until 1:00 PM CLOSED SUNDAYS&nbsp\;<br />\n<br />\nParticipants must show a City of Bixby utility bill or drivers license with an address within the Bixby City limits in order to be admitted to the landfill.<br />\n<br />\nNo items containing Freon&nbsp\;refrigerant will be accepted ( air conditioners and refrigerators). There will be a two dollar ($2) fee for each discarded tire to cover state fees for disposal and recycling of tires.<br />\n<br />\nLoads in truck and trailers should be secure and covered to prevent contents from blowing onto the roadways and creating traffic hazards.&nbsp\;<br />\n<br />\nFor more information and directions contact the Quarry Landfill at 439-7835 or City of Bixby at 918-366-4430.&nbsp\;
LOCATION:The Quarry Landfill 13740 East 48th Street North in Tulsa
UID:e.1611.1595
SEQUENCE:3
DTSTAMP:20260420T064631Z
URL:https://portal.bixbychamber.com/events/details/2015-free-landfill-days-for-bixby-residents-04-24-2015-1595
END:VEVENT

END:VCALENDAR
