BEGIN:VCALENDAR
VERSION:2.0
PRODID:-//ChamberMaster//Event Calendar 2.0//EN
METHOD:PUBLISH
X-PUBLISHED-TTL:P3D
REFRESH-INTERVAL:P3D
CALSCALE:GREGORIAN
BEGIN:VEVENT
DTSTART:20150509T130000Z
DTEND:20150509T170000Z
X-MICROSOFT-CDO-ALLDAYEVENT:FALSE
SUMMARY:2015 Fishing Derby
DESCRIPTION:Bring your own poles and bait! \n\nPrizes for the largest fish for age groups 2-5\, 6-11\, 12-15
X-ALT-DESC;FMTTYPE=text/html:<p>Bring your own poles and bait!&nbsp\;</p>\n\n<p>Prizes for the largest fish for age groups 2-5\, 6-11\, 12-15</p>\n
LOCATION:Lake Bixhoma
UID:e.1611.1587
SEQUENCE:3
DTSTAMP:20260420T064514Z
URL:https://portal.bixbychamber.com/events/details/2015-fishing-derby-05-09-2015-1587
END:VEVENT

END:VCALENDAR
