BEGIN:VCALENDAR
VERSION:2.0
PRODID:-//ChamberMaster//Event Calendar 2.0//EN
METHOD:PUBLISH
X-PUBLISHED-TTL:P3D
REFRESH-INTERVAL:P3D
CALSCALE:GREGORIAN
BEGIN:VEVENT
DTSTART:20150716T190000Z
DTEND:20150716T213000Z
X-MICROSOFT-CDO-ALLDAYEVENT:FALSE
SUMMARY:2015 Financial Management
DESCRIPTION:Gain the knowledge and motivation needed to put your finances in order and start saving for the future. The seminar focuses on six areas of coverage\, the cash management process\, managing your taxes\, saving for retirement\, and leaving a legacy. You may also receive CEUs
X-ALT-DESC;FMTTYPE=text/html:Gain the knowledge and motivation needed to put your finances in order and start saving for the future. The seminar focuses on six areas of coverage\, the cash management process\, managing your taxes\, saving for retirement\, and leaving a legacy. You may also receive CEUs
LOCATION:Tulsa Community College Conference Center 6111 E Skelly Drive Tulsa\, OK 74135
UID:e.1611.1594
SEQUENCE:3
DTSTAMP:20260420T022106Z
URL:https://portal.bixbychamber.com/events/details/2015-financial-management-07-16-2015-1594
END:VEVENT

END:VCALENDAR
