BEGIN:VCALENDAR
VERSION:2.0
PRODID:-//ChamberMaster//Event Calendar 2.0//EN
METHOD:PUBLISH
X-PUBLISHED-TTL:P3D
REFRESH-INTERVAL:P3D
CALSCALE:GREGORIAN
BEGIN:VEVENT
DTSTART:20150220T173000Z
DTEND:20150220T190000Z
X-MICROSOFT-CDO-ALLDAYEVENT:FALSE
SUMMARY:2015 February Learn Over Lunch
DESCRIPTION:Learn Over Lunch educational program\, partners will mentor other partners on important business skills including personal and professional development\, educational growth and the latest trends and technology. Join us for lunch and take some time out of your day to learn from an expert.
X-ALT-DESC;FMTTYPE=text/html:<em><em>Learn Over Lunch educational program\, partners will mentor other partners on important business skills including personal and professional development\, educational growth and the latest trends and technology. Join us for lunch and take some time out of your day to learn from an expert</em>.</em>
LOCATION:Chamber Board Room
UID:e.1611.1543
SEQUENCE:3
DTSTAMP:20260422T083847Z
URL:https://portal.bixbychamber.com/events/details/2015-february-learn-over-lunch-02-20-2015-1543
END:VEVENT

END:VCALENDAR
