BEGIN:VCALENDAR
VERSION:2.0
PRODID:-//ChamberMaster//Event Calendar 2.0//EN
METHOD:PUBLISH
X-PUBLISHED-TTL:P3D
REFRESH-INTERVAL:P3D
CALSCALE:GREGORIAN
BEGIN:VEVENT
DTSTART:20150212T213000Z
DTEND:20150212T230000Z
X-MICROSOFT-CDO-ALLDAYEVENT:FALSE
SUMMARY:2015 February Get To Know Your Chamber
DESCRIPTION:This reception give all Partners an opportunity to learn about the Bixby Metro Chamber\, our programs\, Partners benefits and ways the Chamber can help brand your business. The reception is open to not only New Partners to the Chamber but also existing Partners looking for ways to get more involved\, promote their business and to welcome other Partners.
X-ALT-DESC;FMTTYPE=text/html:This reception give all Partners an opportunity to learn about the Bixby Metro Chamber\, our programs\, Partners benefits and ways the Chamber can help brand your business. The reception is open to not only New Partners to the Chamber but also existing Partners looking for ways to get more involved\, promote their business and to welcome other Partners.&nbsp\;
LOCATION:Holiday Inn Express Tulsa South/Bixby 8405 East 102nd Street South Tulsa\, OK 74133
UID:e.1611.1482
SEQUENCE:3
DTSTAMP:20260422T084140Z
URL:https://portal.bixbychamber.com/events/details/2015-february-get-to-know-your-chamber-02-12-2015-1482
END:VEVENT

END:VCALENDAR
