BEGIN:VCALENDAR
VERSION:2.0
PRODID:-//ChamberMaster//Event Calendar 2.0//EN
METHOD:PUBLISH
X-PUBLISHED-TTL:P3D
REFRESH-INTERVAL:P3D
CALSCALE:GREGORIAN
BEGIN:VEVENT
DTSTART:20150219T233000Z
DTEND:20150220T010000Z
X-MICROSOFT-CDO-ALLDAYEVENT:FALSE
SUMMARY:2015 February After Hours
DESCRIPTION:A very relaxed and casual networking event that gives the highlighted business a great opportunity to promote your products and services. Food and beverages will be provided.
X-ALT-DESC;FMTTYPE=text/html:A very relaxed and casual networking event that gives the highlighted&nbsp\;business a great opportunity to promote your products and services. Food and beverages will be&nbsp\;provided.&nbsp\;
LOCATION:Tedford Insurance 121 East Main Jenks\, OK 74037
UID:e.1611.1530
SEQUENCE:3
DTSTAMP:20260422T083911Z
URL:https://portal.bixbychamber.com/events/details/2015-february-after-hours-02-19-2015-1530
END:VEVENT

END:VCALENDAR
