BEGIN:VCALENDAR
VERSION:2.0
PRODID:-//ChamberMaster//Event Calendar 2.0//EN
METHOD:PUBLISH
X-PUBLISHED-TTL:P3D
REFRESH-INTERVAL:P3D
CALSCALE:GREGORIAN
BEGIN:VEVENT
DTSTART:20151031T160000Z
DTEND:20151031T190000Z
X-MICROSOFT-CDO-ALLDAYEVENT:FALSE
SUMMARY:2015 Dave and Buster's Tricks\, Treats and Family Fun
DESCRIPTION:COME HAVE A SCARY GOOD TIME WITH YOUR MONSTER CREW! Dave and Buster's Tulsa will have games\, balloon artist\, face painting\, costume contest\, buffet\, dessert\, unlimited soft drinks\, and either a $10 powercard for $27.99 or $15 powercard for $34.99...come by yourself or bring the family out and enjoy!!! Tickets must be purchased in advance at https://dnb.ticketbud.com/list/halloween
X-ALT-DESC;FMTTYPE=text/html:COME HAVE A SCARY GOOD TIME WITH YOUR MONSTER CREW! Dave and Buster&#39\;s Tulsa will have games\, balloon artist\, face painting\, costume contest\, buffet\, dessert\, unlimited soft drinks\, and either a $10 powercard for $27.99 or $15 powercard for $34.99...come by yourself or bring the family out and enjoy!!! Tickets must be purchased in advance at https://dnb.ticketbud.com/list/halloween
LOCATION:Dave and Buster's S. 71st St and Highway 169 (behind Best Buy)
UID:e.1611.1683
SEQUENCE:3
DTSTAMP:20260419T224526Z
URL:https://portal.bixbychamber.com/events/details/2015-dave-and-buster-s-tricks-treats-and-family-fun-10-31-2015-1683
END:VEVENT

END:VCALENDAR
