BEGIN:VCALENDAR
VERSION:2.0
PRODID:-//ChamberMaster//Event Calendar 2.0//EN
METHOD:PUBLISH
X-PUBLISHED-TTL:P3D
REFRESH-INTERVAL:P3D
CALSCALE:GREGORIAN
BEGIN:VEVENT
DTSTART:20150816T190000Z
DTEND:20150816T220000Z
X-MICROSOFT-CDO-ALLDAYEVENT:FALSE
SUMMARY:2015 Dancemania Open House
DESCRIPTION:Dancemanie will have snacks for the kids and anyone who registers on that day will get $10 off of their registration fee.
X-ALT-DESC;FMTTYPE=text/html:<span style="color: rgb(20\, 24\, 35)\; font-family: helvetica\, arial\, sans-serif\; font-size: 14px\; line-height: 17.0545444488525px\;">Dancemanie will have snacks for the kids and anyone who registers on that day will get $10 off of their registration fee.</span>
LOCATION:12818 South Memorial Drive Suite 113 Bixby\, OK 74008
UID:e.1611.1653
SEQUENCE:3
DTSTAMP:20260420T022113Z
URL:https://portal.bixbychamber.com/events/details/2015-dancemania-open-house-08-16-2015-1653
END:VEVENT

END:VCALENDAR
