BEGIN:VCALENDAR
VERSION:2.0
PRODID:-//ChamberMaster//Event Calendar 2.0//EN
METHOD:PUBLISH
X-PUBLISHED-TTL:P3D
REFRESH-INTERVAL:P3D
CALSCALE:GREGORIAN
BEGIN:VEVENT
DTSTART:20150919T180000Z
DTEND:20150919T210000Z
X-MICROSOFT-CDO-ALLDAYEVENT:FALSE
SUMMARY:2015 CPA Review- Financial Accounting & Reporting
DESCRIPTION:CPA Review class that is going on is "Financial Accounting & Reporting" and is held on Saturdays from 1-4pm. The start date for this class is on September 19th and the fee for the class (including books & materials) is $700
X-ALT-DESC;FMTTYPE=text/html:<span style="color:black\;"><span style="font-family:times new roman\,serif\;"><span style="font-size:10.0pt\;">CPA Review class&nbsp\;that is going on is &quot\;Financial Accounting &amp\; Reporting&quot\; and is held on Saturdays from 1-4pm. The start date for this class is on September 19th and the fee for the class (including books &amp\; materials) is $700</span></span></span>
LOCATION:Northeastern State University 3100 East New Orleans Broken Arrow\, OK 74014
UID:e.1611.1667
SEQUENCE:3
DTSTAMP:20260420T010541Z
URL:https://portal.bixbychamber.com/events/details/2015-cpa-review-financial-accounting-reporting-09-19-2015-1667
END:VEVENT

END:VCALENDAR
